{"text_format":"1","workbook":"xlsx","n_sheets":7,"sheets":["Tlačivo na zostavy","Zap 1 Pc - TU VPISOVAŤ Mená","ZapPreRozhod","Zápis tur_ Pc Výkony","Výsledky","Tabuľka"," Jednot"],"not_rendered":{"charts":0,"images":0,"macros":1,"external_links":0,"defined_names":0,"comments":1,"pivot_tables":0},"unopened":[],"bounds":{"document_bytes":16777216,"sheet_cells":100000,"rows_first":2000,"rows_last":500,"rows_between":2000,"halvings":0,"cell_chars":16384,"cell_head_chars":4096},"cells_cut":0,"cells_raw":0,"read":"whole","date_system":"1900"}

{"sheet":"Tlačivo na zostavy","index":0,"n_rows":46,"n_cols":22,"rows_kept":46,"cut":false,"hidden":false,"merged":[[9,6,10,8],[12,6,12,7],[12,8,12,10],[12,13,12,15],[13,6,13,8],[13,13,13,15],[14,13,14,15],[15,13,15,15],[13,3,13,4],[14,3,14,4],[15,3,15,4],[16,3,16,4],[17,3,17,4],[18,3,18,4],[13,9,13,10],[14,9,14,10],[14,6,15,8],[15,9,15,10],[20,0,21,2],[20,3,20,4],[21,3,21,4],[23,0,23,1],[23,2,23,4],[24,0,24,2],[24,3,24,4],[25,0,26,2],[25,3,25,4],[26,3,26,4],[37,0,38,0],[39,0,40,0],[41,0,42,0],[43,0,44,0],[45,0,46,0],[39,1,40,2],[41,1,42,2],[43,1,44,2],[27,0,28,2],[29,0,30,2],[31,0,32,2],[34,1,34,2],[35,0,36,0],[35,1,36,2],[37,1,38,2],[34,3,34,4],[35,3,36,4],[37,3,38,4],[18,6,19,8],[19,3,19,4],[19,9,19,10],[20,6,21,8],[20,9,20,10],[21,9,21,10],[23,8,23,10],[27,9,27,10],[28,9,28,10],[29,6,30,8],[29,9,29,10],[30,9,30,10],[34,6,34,7],[34,8,34,9],[35,8,36,9],[27,3,27,4],[28,3,28,4],[29,3,29,4],[30,3,30,4],[31,3,31,4],[32,3,32,4],[30,13,30,15],[23,6,23,7],[24,6,24,8],[24,9,24,10],[25,6,26,8],[25,9,25,10],[26,9,26,10],[27,6,28,8],[31,6,32,8],[31,9,31,10],[31,13,31,15],[32,9,32,10],[43,6,44,7],[43,8,44,9],[45,1,46,9],[35,6,36,7],[37,6,38,7],[37,8,38,9],[39,6,40,7],[39,8,40,9],[41,6,42,7],[41,8,42,9],[39,3,40,4],[41,3,42,4],[43,3,44,4],[2,9,2,10],[2,13,2,16],[2,18,3,19],[3,9,3,10],[4,18,5,20],[5,9,5,10],[1,0,1,1],[1,2,1,4],[1,6,1,7],[1,8,1,10],[2,0,2,2],[2,6,2,8],[3,0,4,2],[2,3,2,4],[3,3,3,4],[5,0,6,2],[5,3,5,4],[6,3,6,4],[3,6,4,8],[4,9,4,10],[5,6,6,8],[6,9,6,10],[16,13,16,15],[17,9,17,10],[17,13,17,15],[18,9,18,10],[18,13,18,15],[7,0,8,2],[9,0,10,2],[12,0,12,1],[13,0,13,2],[14,0,15,2],[16,0,17,2],[18,0,19,2],[8,9,8,10],[9,9,9,10],[7,3,7,4],[8,3,8,4],[7,6,8,8],[7,9,7,10],[10,9,10,10],[16,6,17,8],[16,9,16,10],[9,3,9,4],[10,3,10,4],[12,2,12,4]]}
[]
["Družstvo  č.  1.",null,"TJ Rakovice",null,null,null,"Družstvo  č.  4.",null,"MKK Slovan Galanta",null,null,null,null,"Tu len vymeniť názvy družstiev."]
["Priezvisko, meno ",null,null,"Reg. čísl. hráča",null,null,"Priezvisko, meno ",null,null,"Reg. čísl. hráča",null,null,null,"v ďalších kolách",null,null,null,null,"za  1."]
[]
[null,null,null,null,null,null,null,null,null,null,null,null,null,null,null,null,null,null,"Vytlačiť pre družstvá na zostavy"]
[]
[null,null,null,null,null,null,null,null,null,null,null,null,null,"1.t","2 V",null,"2014-03-23"]
[null,null,null,null,null,null,null,null,null,null,null,null,null,"2.t","2 Z",null,"2014-03-30"]
[null,null,null,null,null,null,null,null,null,null,null,null,null,"3.t","1 V",null,"2014-04-06"]
[null,null,null,null,null,null,null,null,null,null,null,null,null,"4.t","1 Z",null,"2014-04-13"]
[]
[]
["Družstvo  č.  2.",null,"MKK Piešťany",null,null,null,"Družstvo  č.  5.",null,"KK Zlaté Klasy",null,null,null,null,"Nasadenie v IV.turnaji v Starej Turej"]
["Priezvisko, meno ",null,null,"Reg. čísl. hráča",null,null,"Priezvisko, meno ",null,null,"Reg. čísl. hráča",null,null,null,"TJ Slavoj Veľký Šariš"]
[null,null,null,null,null,null,null,null,null,null,null,null,null,"ŽP Šport Podbrezová"]
[null,null,null,null,null,null,null,null,null,null,null,null,null,"MKK Stará Turá"]
[null,null,null,null,null,null,null,null,null,null,null,null,null,"KK Tatran Sučany"]
[null,null,null,null,null,null,null,null,null,null,null,null,null,"ŠK Modranka"]
[null,null,null,null,null,null,null,null,null,null,null,null,null,"TKK Trenčín"]
[]
[]
[null,null,null,null,null,null,null,null,null,null,null,null,null,"1. turnajové kolo"]
[]
["Družstvo  č.  3.",null,"ŠK Modranka",null,null,null,null,null,null,null,null,null,null,"Zlaté Klasy",null,"Turnajové miesto"]
["Priezvisko, meno ",null,null,"Reg. čísl. hráča"]
[]
[null,null,null,null,null,null,null,null,null,null,null,null,null,"T4","Turnaj"]
[]
[null,null,null,null,null,null,null,null,null,null,null,null,null,"Rozhodcovia"]
[]
[null,null,null,null,null,null,null,null,null,null,null,null,null,"Lengyel Ottó"]
[null,null,null,null,null,null,null,null,null,null,null,null,null,"Vlahyová Eva"]
[]
[]
[null,"Dráha č 1",null,"Dráha č 2",null,null,"Dráha č 3",null,"Dráha č 4"]
["10:00:00","1 hráč z 5 druž.",null,"1 hráč z 4 druž.",null,null,"1 hráč z 3 druž.",null,"1 hráč z 2 druž."]
[null,null,null,null,null,null,null,null,null,null,null,null,null,null,null,null,null,null,5,4,3,2]
["11:05:00","1 hráč z 1 druž.",null,"2 hráč z 5 druž.",null,null,"2 hráč z 4 druž.",null,"2 hráč z 3 druž.",null,null,null,null,null,null,null,null,null,1,5,4,3]
[null,null,null,null,null,null,null,null,null,null,null,null,null,null,null,null,null,null,2,1,5,4]
["12:10:00","2 hráč z 2 druž.",null,"2 hráč z 1 druž.",null,null,"3 hráč z 5 druž.",null,"3 hráč z 4 druž.",null,null,null,null,null,null,null,null,null,3,2,1,5]
[null,null,null,null,null,null,null,null,null,null,null,null,null,null,null,null,null,null,4,3,2,1]
["13:15:00","3 hráč z 3 druž.",null,"3 hráč z 2 druž.",null,null,"3 hráč z 1 druž.",null,"4 hráč z 5 druž."]
[]
["14:20:00","4 hráč z 4 druž.",null,"4 hráč z 3 druž.",null,null,"4 hráč z 2 druž.",null,"4 hráč z 1 druž."]
[]
["15:30:00","Ukončenie a vyhlásenie výsledkov"]

{"sheet":"Zap 1 Pc - TU VPISOVAŤ Mená","index":1,"n_rows":46,"n_cols":16,"rows_kept":46,"cut":false,"hidden":false,"merged":[[1,1,1,2],[1,3,1,5],[1,7,1,8],[1,9,1,11],[1,15,2,16],[2,1,2,3],[2,4,2,5],[3,7,4,9],[5,7,6,9],[5,10,6,11],[5,14,6,18],[2,7,2,9],[2,10,2,11],[3,1,4,3],[3,4,4,5],[3,10,4,11],[5,1,6,3],[5,4,6,5],[27,7,28,9],[27,10,28,11],[27,1,28,3],[29,1,30,3],[29,4,30,5],[29,7,30,9],[29,10,30,11],[10,14,11,18],[7,1,8,3],[7,4,8,5],[7,10,8,11],[9,1,10,3],[9,4,10,5],[9,7,10,9],[9,10,10,11],[16,7,17,9],[16,10,17,11],[7,7,8,9],[7,14,8,18],[16,1,17,3],[16,4,17,5],[18,1,19,3],[18,4,19,5],[18,7,19,9],[18,10,19,11],[20,4,21,5],[20,7,21,9],[20,10,21,11],[12,1,12,2],[12,3,12,5],[12,7,12,8],[12,9,12,11],[13,4,13,5],[13,7,13,9],[13,10,13,11],[13,1,13,3],[14,1,15,3],[14,4,15,5],[14,7,15,9],[14,10,15,11],[37,4,37,5],[38,4,38,5],[39,4,39,5],[39,1,40,1],[40,2,40,3],[40,4,40,5],[24,10,24,11],[20,1,21,3],[23,1,23,2],[23,3,23,5],[23,7,23,8],[23,9,23,11],[24,1,24,3],[24,4,24,5],[31,7,32,9],[31,10,32,11],[31,1,32,3],[31,4,32,5],[24,7,24,9],[25,1,26,3],[25,4,26,5],[25,7,26,9],[25,10,26,11],[27,4,28,5],[41,2,41,3],[41,4,41,5],[42,2,42,3],[42,4,42,5],[34,2,34,3],[34,4,34,5],[34,7,34,8],[34,9,34,10],[35,1,36,1],[35,2,35,3],[35,4,35,5],[38,2,38,3],[39,2,39,3],[39,7,39,8],[40,7,40,8],[41,7,41,8],[42,7,42,8],[41,1,42,1],[35,7,35,8],[35,9,35,10],[36,2,36,3],[36,4,36,5],[37,1,38,1],[37,2,37,3],[40,9,40,10],[41,9,41,10],[42,9,42,10],[43,9,43,10],[44,9,44,10],[36,7,36,8],[36,9,36,10],[37,7,37,8],[37,9,37,10],[38,7,38,8],[38,9,38,10],[39,9,39,10],[43,1,44,1],[45,1,46,1],[43,2,43,3],[43,4,43,5],[44,2,44,3],[44,4,44,5],[45,2,46,10],[43,7,43,8],[44,7,44,8]]}
[]
[null,{"$f":"'Tlačivo na zostavy'!$A$2","v":"Družstvo  č.  1."},null,{"$f":"'Tlačivo na zostavy'!$C$2","v":"TJ Rakovice"},null,null,null,{"$f":"'Tlačivo na zostavy'!$G$2","v":"Družstvo  č.  4."},null,{"$f":"'Tlačivo na zostavy'!$I$2","v":"MKK Slovan Galanta"},null,null,null,null,null,"za  2. "]
[null,"Priezvisko,meno",null,null,"Registr. číslo hráča",null,null,"Priezvisko,meno",null,null,"Registr. číslo hráča"]
[null,"Viktoria Forrová",null,null,null,null,null,"Veronika Beskidová"]
[]
[null,"Timea Magalová/Dean Kukuč",null,null,null,null,null,"Laura Tanczosová",null,null,null,null,null,null,"Tu vpísať iba priezvisko a meno"]
[]
[null,"Dominik  Masár",null,null,null,null,null,"Matej Kubalec",null,null,null,null,null,null," a číslo reg. preukazu"]
[]
[null,"Timotej Masár",null,null,null,null,null,"Konrád Kosár"]
[null,null,null,null,null,null,null,null,null,null,null,null,null,null,"Dať vytlačiť pre rozhodcu a hráčov."]
[]
[null,{"$f":"'Tlačivo na zostavy'!$A$13","v":"Družstvo  č.  2."},null,{"$f":"'Tlačivo na zostavy'!$C$13","v":"MKK Piešťany"},null,null,null,{"$f":"'Tlačivo na zostavy'!$G$13","v":"Družstvo  č.  5."},null,{"$f":"'Tlačivo na zostavy'!I13","v":"KK Zlaté Klasy"}]
[null,"Priezvisko,meno",null,null,"Registr. číslo hráča",null,null,"Priezvisko,meno",null,null,"Registr. číslo hráča"]
[null,"Lucia Ondrisová",null,null,null,null,null,"Lucia Magyarics "]
[]
[null,"Hana Švorcová",null,null,null,null,null,"Viktor Magyarics"]
[]
[null,"Samuel Saxun",null,null,null,null,null,"Adam Tóth"]
[]
[null,"Stela Lučanská",null,null,null,null,null,"Michal Jurík"]
[]
[]
[null,{"$f":"'Tlačivo na zostavy'!$A$24","v":"Družstvo  č.  3."},null,{"$f":"'Tlačivo na zostavy'!$C$24","v":"ŠK Modranka"}]
[null,"Priezvisko,meno",null,null,"Registr. číslo hráča"]
[null,"Marcel Sestak"]
[]
[null,"Michal Kubicek"]
[]
[null,"Richard Hupko"]
[]
[null,"Daniel Rakicky"]
[]
[]
[null,null,"Dráha č.   1",null,"Dráha č.   2",null,null,"Dráha č.   3",null,"Dráha č.   4"]
[null,"10:00:00",{"$f":"J13","v":"KK Zlaté Klasy"},null,{"$f":"J2","v":"MKK Slovan Galanta"},null,null,{"$f":"D24","v":"ŠK Modranka"},null,{"$f":"D13","v":"MKK Piešťany"}]
[null,null,{"$f":"H15","v":"Lucia Magyarics "},null,{"$f":"H4","v":"Veronika Beskidová"},null,null,{"$f":"B26","v":"Marcel Sestak"},null,{"$f":"B15","v":"Lucia Ondrisová"}]
[null,"11:05:00",{"$f":"D2","v":"TJ Rakovice"},null,{"$f":"J13","v":"KK Zlaté Klasy"},null,null,{"$f":"J2","v":"MKK Slovan Galanta"},null,{"$f":"D24","v":"ŠK Modranka"}]
[null,null,{"$f":"B4","v":"Viktoria Forrová"},null,{"$f":"H17","v":"Viktor Magyarics"},null,null,{"$f":"H6","v":"Laura Tanczosová"},null,{"$f":"B28","v":"Michal Kubicek"}]
[null,"12:10:00",{"$f":"D13","v":"MKK Piešťany"},null,{"$f":"D2","v":"TJ Rakovice"},null,null,{"$f":"J13","v":"KK Zlaté Klasy"},null,{"$f":"J2","v":"MKK Slovan Galanta"}]
[null,null,{"$f":"B17","v":"Hana Švorcová"},null,{"$f":"B6","v":"Timea Magalová/Dean Kukuč"},null,null,{"$f":"H19","v":"Adam Tóth"},null,{"$f":"H8","v":"Matej Kubalec"}]
[null,"13:15:00",{"$f":"D24","v":"ŠK Modranka"},null,{"$f":"D13","v":"MKK Piešťany"},null,null,{"$f":"D2","v":"TJ Rakovice"},null,{"$f":"J13","v":"KK Zlaté Klasy"}]
[null,null,{"$f":"B30","v":"Richard Hupko"},null,{"$f":"B19","v":"Samuel Saxun"},null,null,{"$f":"B8","v":"Dominik  Masár"},null,{"$f":"H21","v":"Michal Jurík"}]
[null,"14:20:00",{"$f":"J2","v":"MKK Slovan Galanta"},null,{"$f":"D24","v":"ŠK Modranka"},null,null,{"$f":"D13","v":"MKK Piešťany"},null,{"$f":"D2","v":"TJ Rakovice"}]
[null,null,{"$f":"H10","v":"Konrád Kosár"},null,{"$f":"B32","v":"Daniel Rakicky"},null,null,{"$f":"B21","v":"Stela Lučanská"},null,{"$f":"B10","v":"Timotej Masár"}]
[null,"15:30:00","Ukončenie a vyhlásenie výsledkov"]

{"sheet":"ZapPreRozhod","index":2,"n_rows":127,"n_cols":16,"rows_kept":127,"cut":false,"hidden":false,"merged":[[38,3,39,3],[38,4,39,4],[38,5,39,5],[38,8,39,9],[2,1,2,13],[2,15,3,16],[5,3,5,8],[5,12,5,13],[5,15,5,16],[6,15,6,16],[7,15,7,16],[12,10,13,10],[12,11,13,11],[12,12,13,12],[8,8,10,8],[22,11,23,11],[22,12,23,12],[34,1,36,1],[18,8,20,8],[8,1,10,1],[12,1,13,2],[12,3,13,3],[12,4,13,4],[12,5,13,5],[12,8,13,9],[18,1,20,1],[44,1,46,1],[48,1,49,2],[48,3,49,3],[48,4,49,4],[48,5,49,5],[22,8,23,9],[28,1,28,13],[31,3,31,8],[31,12,31,13],[34,8,36,8],[38,1,39,2],[38,12,39,12],[44,8,46,8],[48,8,49,9],[48,10,49,10],[48,11,49,11],[48,12,49,12],[38,10,39,10],[38,11,39,11],[22,1,23,2],[22,3,23,3],[22,4,23,4],[22,5,23,5],[22,10,23,10],[54,1,54,13],[57,12,57,13],[64,8,65,9],[64,10,65,10],[64,11,65,11],[64,12,65,12],[60,8,62,8],[70,8,72,8],[57,3,57,8],[60,1,62,1],[64,1,65,2],[64,3,65,3],[64,4,65,4],[64,5,65,5],[70,1,72,1],[74,4,75,4],[74,5,75,5],[74,10,75,10],[74,11,75,11],[74,12,75,12],[90,3,91,3],[90,4,91,4],[116,8,117,9],[116,10,117,10],[116,4,117,4],[116,5,117,5],[116,11,117,11],[116,12,117,12],[106,1,106,13],[109,3,109,8],[109,12,109,13],[112,1,114,1],[112,8,114,8],[116,1,117,2],[116,3,117,3],[96,1,98,1],[100,1,101,2],[100,3,101,3],[100,4,101,4],[100,5,101,5],[90,5,91,5],[90,8,91,9],[74,8,75,9],[80,1,80,13],[83,3,83,8],[83,12,83,13],[86,1,88,1],[86,8,88,8],[90,1,91,2],[90,12,91,12],[90,10,91,10],[90,11,91,11],[96,8,98,8],[100,8,101,9],[100,10,101,10],[100,11,101,11],[100,12,101,12],[74,1,75,2],[74,3,75,3],[126,8,127,9],[126,10,127,10],[126,11,127,11],[126,12,127,12],[126,5,127,5],[122,1,124,1],[122,8,124,8],[126,1,127,2],[126,3,127,3],[126,4,127,4]]}
[]
[]
[null,"Turnaj  o Majstra Trnavského kraja družstiev 2026",null,null,null,null,null,null,null,null,null,null,null,null,null,"za  3."]
[]
[]
[null,{"$f":"'Tlačivo na zostavy'!$N$22","v":"1. turnajové kolo"},null,"Prvá štvorka hráčov 1 - 4",null,null,null,null,null,null,{"$f":"'Tlačivo na zostavy'!$N$24","v":"Zlaté Klasy"},null,{"$f":"TODAY()","v":"2026-03-22"},null,null,"vytlačiť"]
[null,null,null,null,null,null,null,null,null,null,null,null,null,null,null,"zápisy "]
[null,null,null,"Plné","Chyby","Cel_30","120 Hz.",null,null,null,"Plné","Chyby","Cel_30","120 Hz.",null,"pre rozhodcu"]
[null,{"$f":"'Zap 1 Pc - TU VPISOVAŤ Mená'!$C$37","v":"Lucia Magyarics "},1,87,1,129,null,null,{"$f":"'Zap 1 Pc - TU VPISOVAŤ Mená'!$E$37","v":"Veronika Beskidová"},2,96,0,136]
[null,null,2,88,3,123,null,null,null,1,97,1,157]
[null,null,4,85,1,129,null,null,null,3,86,3,138]
[null,{"$f":"'Zap 1 Pc - TU VPISOVAŤ Mená'!$C$36","v":"KK Zlaté Klasy"},3,83,3,119,null,null,{"$f":"'Zap 1 Pc - TU VPISOVAŤ Mená'!$E$36","v":"MKK Slovan Galanta"},4,73,2,109]
[null,"Spolu :",null,343,8,500,null,null,"Spolu :",null,352,5,543]
[]
[]
[]
[]
[null,null,null,"Plné","Chyby","Cel_30","120 Hz.",null,null,null,"Plné","Chyby","Cel_30","120 Hz."]
[null,{"$f":"'Zap 1 Pc - TU VPISOVAŤ Mená'!$H$37","v":"Marcel Sestak"},3,76,3,120,null,null,{"$f":"'Zap 1 Pc - TU VPISOVAŤ Mená'!$J$37","v":"Lucia Ondrisová"},4,90,3,117]
[null,null,4,68,3,97,null,null,null,3,100,2,151]
[null,null,6,86,3,121,null,null,null,5,94,0,137]
[null,{"$f":"'Zap 1 Pc - TU VPISOVAŤ Mená'!$H$36","v":"ŠK Modranka"},5,88,3,136,null,null,{"$f":"'Zap 1 Pc - TU VPISOVAŤ Mená'!$J$36","v":"MKK Piešťany"},6,79,2,111]
[null,"Spolu :",null,318,12,474,null,null,"Spolu :",null,363,7,515]
[]
[]
[]
[]
[]
[null,{"$f":"$B$3","v":"Turnaj  o Majstra Trnavského kraja družstiev 2026"}]
[]
[]
[null,{"$f":"$B$6","v":"1. turnajové kolo"},null,"Druhá štvorka hráčov 5 - 8",null,null,null,null,null,null,{"$f":"$K$6","v":"Zlaté Klasy"},null,{"$f":"TODAY()","v":"2026-03-22"}]
[]
[null,null,null,"Plné","Chyby","Cel_30","120 Hz.",null,null,null,"Plné","Chyby","Cel_30","120 Hz."]
[null,{"$f":"'Zap 1 Pc - TU VPISOVAŤ Mená'!$C$39","v":"Viktoria Forrová"},1,89,1,142,null,null,{"$f":"'Zap 1 Pc - TU VPISOVAŤ Mená'!$E$39","v":"Viktor Magyarics"},2,82,5,108]
[null,null,2,96,2,129,null,null,null,1,92,3,125]
[null,null,4,79,2,122,null,null,null,3,93,0,147]
[null,{"$f":"'Zap 1 Pc - TU VPISOVAŤ Mená'!$C$38","v":"TJ Rakovice"},3,86,1,130,null,null,{"$f":"'Zap 1 Pc - TU VPISOVAŤ Mená'!$E$38","v":"KK Zlaté Klasy"},4,90,2,125]
[null,"Spolu :",null,350,6,523,null,null,"Spolu :",null,357,10,505]
[]
[]
[]
[]
[null,null,null,"Plné","Chyby","Cel_30","120 Hz.",null,null,null,"Plné","Chyby","Cel_30","120 Hz."]
[null,{"$f":"'Zap 1 Pc - TU VPISOVAŤ Mená'!$H$39","v":"Laura Tanczosová"},3,81,5,107,null,null,{"$f":"'Zap 1 Pc - TU VPISOVAŤ Mená'!$J$39","v":"Michal Kubicek"},4,93,1,146]
[null,null,4,92,7,117,null,null,null,3,93,1,134]
[null,null,6,82,1,113,null,null,null,5,99,2,131]
[null,{"$f":"'Zap 1 Pc - TU VPISOVAŤ Mená'!$H$38","v":"MKK Slovan Galanta"},5,96,3,127,null,null,{"$f":"'Zap 1 Pc - TU VPISOVAŤ Mená'!$J$38","v":"ŠK Modranka"},6,82,3,127]
[null,"Spolu :",null,351,16,464,null,null,"Spolu :",null,367,7,538]
[]
[]
[]
[]
[]
[null,{"$f":"$B$3","v":"Turnaj  o Majstra Trnavského kraja družstiev 2026"}]
[]
[]
[null,{"$f":"$B$6","v":"1. turnajové kolo"},null,"Tretia štvorka hráčov 9 - 12",null,null,null,null,null,null,{"$f":"$K$6","v":"Zlaté Klasy"},null,{"$f":"TODAY()","v":"2026-03-22"}]
[]
[null,null,null,"Plné","Chyby","Cel_30","120 Hz.",null,null,null,"Plné","Chyby","Cel_30","120 Hz."]
[null,{"$f":"'Zap 1 Pc - TU VPISOVAŤ Mená'!$C$41","v":"Hana Švorcová"},1,90,2,125,null,null,{"$f":"'Zap 1 Pc - TU VPISOVAŤ Mená'!$E$41","v":"Timea Magalová/Dean Kukuč"},2,93,3,128]
[null,null,2,97,2,138,null,null,null,1,90,1,143]
[null,null,4,78,3,111,null,null,null,3,82,8,100]
[null,{"$f":"'Zap 1 Pc - TU VPISOVAŤ Mená'!$C$40","v":"MKK Piešťany"},3,88,3,115,null,null,{"$f":"'Zap 1 Pc - TU VPISOVAŤ Mená'!$E$40","v":"TJ Rakovice"},4,65,7,90]
[null,"Spolu :",null,353,10,489,null,null,"Spolu :",null,330,19,461]
[]
[]
[]
[]
[null,null,null,"Plné","Chyby","Cel_30","120 Hz.",null,null,null,"Plné","Chyby","Cel_30","120 Hz."]
[null,{"$f":"'Zap 1 Pc - TU VPISOVAŤ Mená'!$H$41","v":"Adam Tóth"},3,73,2,117,null,null,{"$f":"'Zap 1 Pc - TU VPISOVAŤ Mená'!$J$41","v":"Matej Kubalec"},4,74,3,101]
[null,null,4,79,5,115,null,null,null,3,84,4,135]
[null,null,6,84,3,110,null,null,null,5,78,1,148]
[null,{"$f":"'Zap 1 Pc - TU VPISOVAŤ Mená'!$H$40","v":"KK Zlaté Klasy"},5,83,7,109,null,null,{"$f":"'Zap 1 Pc - TU VPISOVAŤ Mená'!$J$40","v":"MKK Slovan Galanta"},6,89,1,140]
[null,"Spolu :",null,319,17,451,null,null,"Spolu :",null,325,9,524]
[]
[]
[]
[]
[]
[null,{"$f":"$B$3","v":"Turnaj  o Majstra Trnavského kraja družstiev 2026"}]
[]
[]
[null,{"$f":"$B$6","v":"1. turnajové kolo"},null,"Štvrtá štvorka hráčov 13 - 16",null,null,null,null,null,null,{"$f":"$K$6","v":"Zlaté Klasy"},null,{"$f":"TODAY()","v":"2026-03-22"}]
[]
[null,null,null,"Plné","Chyby","Cel_30","120 Hz.",null,null,null,"Plné","Chyby","Cel_30","120 Hz."]
[null,{"$f":"'Zap 1 Pc - TU VPISOVAŤ Mená'!$C$43","v":"Richard Hupko"},1,97,1,165,null,null,{"$f":"'Zap 1 Pc - TU VPISOVAŤ Mená'!$E$43","v":"Samuel Saxun"},2,82,5,112]
[null,null,2,96,1,130,null,null,null,1,88,6,114]
[null,null,4,99,1,147,null,null,null,3,73,9,99]
[null,{"$f":"'Zap 1 Pc - TU VPISOVAŤ Mená'!$C$42","v":"ŠK Modranka"},3,94,0,147,null,null,{"$f":"'Zap 1 Pc - TU VPISOVAŤ Mená'!$E$42","v":"MKK Piešťany"},4,91,3,134]
[null,"Spolu :",null,{"$f":"SUM(D87:D90)","v":386},{"$f":"E90+E89+E88+E87","v":3},589,null,null,"Spolu :",null,{"$f":"SUM(K87:K90)","v":334},23,459]
[]
[]
[]
[]
[null,null,null,"Plné","Chyby","Cel_30","120 Hz.",null,null,null,"Plné","Chyby","Cel_30","120 Hz."]
[null,{"$f":"'Zap 1 Pc - TU VPISOVAŤ Mená'!$H$43","v":"Dominik  Masár"},3,92,1,132,null,null,{"$f":"'Zap 1 Pc - TU VPISOVAŤ Mená'!$J$43","v":"Michal Jurík"},4,82,3,109]
[null,null,4,81,1,139,null,null,null,3,81,1,124]
[null,null,2,88,3,114,null,null,null,1,77,3,112]
[null,{"$f":"'Zap 1 Pc - TU VPISOVAŤ Mená'!$H$42","v":"TJ Rakovice"},1,94,0,144,null,null,{"$f":"'Zap 1 Pc - TU VPISOVAŤ Mená'!$J$42","v":"KK Zlaté Klasy"},2,82,null,116]
[null,"Spolu :",null,{"$f":"SUM(D97:D100)","v":355},5,529,null,null,"Spolu :",null,{"$f":"SUM(K97:K100)","v":322},7,461]
[]
[]
[]
[]
[]
[null,{"$f":"$B$3","v":"Turnaj  o Majstra Trnavského kraja družstiev 2026"}]
[]
[]
[null,{"$f":"$B$6","v":"1. turnajové kolo"},null,"Piata štvorka hráčov 17 - 20",null,null,null,null,null,null,{"$f":"$K$6","v":"Zlaté Klasy"},null,{"$f":"TODAY()","v":"2026-03-22"}]
[]
[null,null,null,"Plné","Chyby","Cel_30","120 Hz.",null,null,null,"Plné","Chyby","Cel_30","120 Hz."]
[null,{"$f":"'Zap 1 Pc - TU VPISOVAŤ Mená'!$C$45","v":"Konrád Kosár"},1,81,3,117,null,null,{"$f":"'Zap 1 Pc - TU VPISOVAŤ Mená'!$E$45","v":"Daniel Rakicky"},2,76,11,83]
[null,null,2,91,0,154,null,null,null,1,70,7,97]
[null,null,4,87,2,139,null,null,null,3,82,8,102]
[null,{"$f":"'Zap 1 Pc - TU VPISOVAŤ Mená'!$C$44","v":"MKK Slovan Galanta"},3,84,5,118,null,null,{"$f":"'Zap 1 Pc - TU VPISOVAŤ Mená'!$E$44","v":"ŠK Modranka"},4,81,5,118]
[null,"Spolu :",null,{"$f":"SUM(D113:D116)","v":343},10,528,null,null,"Spolu :",null,{"$f":"SUM(K113:K116)","v":309},31,400]
[]
[]
[]
[]
[null,null,null,"Plné","Chyby","Cel_30","120 Hz.",null,null,null,"Plné","Chyby","Cel_30","120 Hz."]
[null,{"$f":"'Zap 1 Pc - TU VPISOVAŤ Mená'!$H$45","v":"Stela Lučanská"},3,89,3,124,null,null,{"$f":"'Zap 1 Pc - TU VPISOVAŤ Mená'!$J$45","v":"Timotej Masár"},4,99,0,142]
[null,null,4,79,4,105,null,null,null,3,87,1,141]
[null,null,2,101,0,155,null,null,null,1,84,null,143]
[null,{"$f":"'Zap 1 Pc - TU VPISOVAŤ Mená'!$H$44","v":"MKK Piešťany"},1,95,1,149,null,null,{"$f":"'Zap 1 Pc - TU VPISOVAŤ Mená'!$J$44","v":"TJ Rakovice"},2,99,1,143]
[null,"Spolu :",null,{"$f":"SUM(D123:D126)","v":364},8,533,null,null,"Spolu :",null,{"$f":"SUM(K123:K126)","v":369},2,569]

{"sheet":"Zápis tur_ Pc Výkony","index":3,"n_rows":58,"n_cols":26,"rows_kept":58,"cut":false,"hidden":false,"merged":[[0,2,0,4],[0,5,0,6],[0,7,0,8],[0,11,0,14],[0,16,0,17],[1,11,1,14],[1,15,1,17],[1,3,1,4],[3,3,3,8],[3,11,3,17],[4,1,4,3],[4,8,5,8],[4,10,4,12],[4,17,5,17],[5,2,6,3],[5,4,6,4],[5,5,6,5],[5,6,6,6],[5,7,6,7],[5,10,6,10],[6,8,7,8],[7,10,8,10],[7,13,8,13],[7,14,8,14],[7,15,8,15],[7,16,8,16],[5,11,6,12],[5,13,6,13],[5,14,6,14],[5,15,6,15],[5,16,6,16],[6,17,7,17],[7,11,8,12],[5,1,6,1],[7,1,8,1],[7,2,8,3],[7,4,8,4],[7,5,8,5],[7,6,8,6],[7,7,8,7],[9,11,10,12],[9,13,10,13],[9,14,10,14],[9,15,10,15],[9,16,10,16],[9,1,10,1],[9,2,10,3],[9,4,10,4],[9,5,10,5],[9,6,10,6],[9,7,10,7],[9,10,10,10],[11,10,12,10],[11,11,12,12],[11,13,12,13],[11,14,12,14],[11,15,12,15],[11,16,12,16],[11,17,12,17],[11,1,12,1],[11,2,12,3],[11,4,12,4],[11,5,12,5],[11,6,12,6],[11,7,12,7],[11,8,12,8],[21,1,22,1],[21,2,22,3],[21,4,22,4],[21,5,22,5],[21,6,22,6],[21,7,22,7],[21,10,22,10],[17,2,18,3],[17,4,18,4],[17,5,18,5],[17,6,18,6],[17,7,18,7],[17,10,18,10],[13,25,14,26],[15,12,15,17],[16,20,19,22],[16,25,19,27],[17,11,18,12],[18,17,19,17],[17,15,18,15],[17,16,18,16],[21,15,22,15],[21,16,22,16],[21,11,22,12],[21,13,22,13],[21,14,22,14],[17,13,18,13],[17,14,18,14],[13,4,13,6],[15,3,15,8],[16,1,16,3],[16,8,17,8],[16,10,16,12],[16,17,17,17],[18,8,19,8],[19,10,20,10],[19,11,20,12],[19,13,20,13],[19,14,20,14],[19,15,20,15],[19,16,20,16],[17,1,18,1],[19,1,20,1],[19,2,20,3],[19,4,20,4],[19,5,20,5],[19,6,20,6],[19,7,20,7],[13,11,13,12],[13,13,13,15],[23,1,24,1],[23,2,24,3],[23,4,24,4],[23,5,24,5],[23,6,24,6],[23,7,24,7],[23,8,24,8],[25,4,25,6],[28,1,28,3],[27,3,27,8],[35,17,36,17],[29,2,30,3],[29,4,30,4],[29,5,30,5],[29,6,30,6],[29,7,30,7],[30,8,31,8],[29,1,30,1],[31,1,32,1],[33,1,34,1],[33,2,34,3],[33,4,34,4],[33,5,34,5],[33,6,34,6],[31,2,32,3],[31,4,32,4],[31,5,32,5],[31,6,32,6],[31,7,32,7],[33,7,34,7],[23,10,24,10],[23,11,24,12],[23,13,24,13],[23,14,24,14],[23,15,24,15],[23,16,24,16],[23,17,24,17],[25,11,25,12],[25,13,25,15],[27,11,27,17],[28,8,29,8],[28,10,28,12],[28,17,29,17],[29,10,30,10],[29,11,30,12],[29,13,30,13],[29,14,30,14],[29,15,30,15],[29,16,30,16],[30,17,31,17],[31,13,32,13],[31,14,32,14],[31,15,32,15],[31,16,32,16],[31,10,32,10],[31,11,32,12],[37,4,37,6],[33,10,34,10],[33,11,34,12],[33,13,34,13],[33,14,34,14],[33,15,34,15],[33,16,34,16],[35,1,36,1],[35,2,36,3],[35,4,36,4],[35,5,36,5],[35,6,36,6],[35,7,36,7],[35,8,36,8],[37,11,37,12],[37,13,37,15],[35,10,36,10],[35,11,36,12],[35,13,36,13],[35,14,36,14],[35,15,36,15],[35,16,36,16]]}
[null,null,"Zápis",null,null,"1.",null,"turnaja",null,null,"Kolkáreň :","Zlaté Klasy",null,null,null,"Dátum:","2026-03-22"]
[null,null,null,null,null,null,null,null,null,null,"Rozhodcovia :",{"$f":"'Tlačivo na zostavy'!$N$31","v":"Lengyel Ottó"},null,null,null,{"$f":"'Tlačivo na zostavy'!$N$32","v":"Vlahyová Eva"}]
[]
[null,{"$f":"'Tlačivo na zostavy'!$A$2","v":"Družstvo  č.  1."},null,{"$f":"'Tlačivo na zostavy'!$C$2","v":"TJ Rakovice"},null,null,null,null,null,null,{"$f":"'Tlačivo na zostavy'!$G$2","v":"Družstvo  č.  4."},{"$f":"'Tlačivo na zostavy'!$I$2","v":"MKK Slovan Galanta"}]
[null,"Priezvisko, meno a registračné číslo hráča",null,null,"Plné","Dorážka","Chyby","Spolu","Body",null,"Priezvisko, meno a registračné číslo hráča",null,null,"Plné","Dorážka","Chyby","Spolu","Body"]
[null,{"$f":"'Zap 1 Pc - TU VPISOVAŤ Mená'!$B$4","v":"Viktoria Forrová"},{"$f":"'Zap 1 Pc - TU VPISOVAŤ Mená'!$E$4","v":0},null,350,{"$f":"H6-E6","v":173},6,523,null,null,"Veronika Beskidová",{"$f":"'Zap 1 Pc - TU VPISOVAŤ Mená'!$K$4","v":0},null,352,{"$f":"Q6-N6","v":191},5,543]
[null,null,null,null,null,null,null,null,{"$f":"$Y$27","v":"6"},null,null,null,null,null,null,null,null,{"$f":"$Y$30","v":"4"}]
[null,{"$f":"'Zap 1 Pc - TU VPISOVAŤ Mená'!B6","v":"Timea Magalová/Dean Kukuč"},{"$f":"'Zap 1 Pc - TU VPISOVAŤ Mená'!E6","v":0},null,330,{"$f":"H8-E8","v":131},19,461,null,null,"Laura Tánczosová",{"$f":"'Zap 1 Pc - TU VPISOVAŤ Mená'!$K$6","v":0},null,351,{"$f":"Q8-N8","v":113},16,464]
[]
[null,{"$f":"'Zap 1 Pc - TU VPISOVAŤ Mená'!B8","v":"Dominik  Masár"},{"$f":"'Zap 1 Pc - TU VPISOVAŤ Mená'!E8","v":0},null,355,{"$f":"H10-E10","v":174},5,529,null,null,"Matej Kubalec",{"$f":"'Zap 1 Pc - TU VPISOVAŤ Mená'!$K$8","v":0},null,325,{"$f":"Q10-N10","v":199},9,524]
[]
[null,{"$f":"'Zap 1 Pc - TU VPISOVAŤ Mená'!B10","v":"Timotej Masár"},{"$f":"'Zap 1 Pc - TU VPISOVAŤ Mená'!E10","v":0},null,369,{"$f":"H12-E12","v":200},2,569,"Poradie",null,"Kosár Konrád",{"$f":"'Zap 1 Pc - TU VPISOVAŤ Mená'!$K$10","v":0},null,343,{"$f":"Q12-N12","v":185},10,528,"Poradie"]
[]
[null,null,null,null,"Spolu :",null,null,{"$f":"H6+H8+H10+H12","v":2082},{"$f":"$X$27","v":"1"},null,null,null,null,"Spolu :",null,null,{"$f":"Q6+Q8+Q10+Q12","v":2059},{"$f":"$X$30","v":"2"},null,null,null,null,null,null,null,"za  4."]
[]
[null,{"$f":"'Tlačivo na zostavy'!$A$13","v":"Družstvo  č.  2."},null,{"$f":"'Tlačivo na zostavy'!$C$13","v":"MKK Piešťany"},null,null,null,null,null,null,{"$f":"'Tlačivo na zostavy'!$G$13","v":"Družstvo  č.  5."},null,{"$f":"'Tlačivo na zostavy'!$I$13","v":"KK Zlaté Klasy"}]
[null,"Priezvisko, meno a registračné číslo hráča",null,null,"Plné","Dorážka","Chyby","Spolu","Body",null,"Priezvisko, meno a registračné číslo hráča",null,null,"Plné","Dorážka","Chyby","Spolu","Body",null,null,"Tu vpísať iba výkony.",null,null,null,null,"Tu vpísať iba výkony."]
[null,{"$f":"'Zap 1 Pc - TU VPISOVAŤ Mená'!B15","v":"Lucia Ondrisová"},{"$f":"'Zap 1 Pc - TU VPISOVAŤ Mená'!$E$15","v":0},null,363,{"$f":"H18-E18","v":152},7,515,null,null,{"$f":"'Zap 1 Pc - TU VPISOVAŤ Mená'!H15","v":"Lucia Magyarics "},{"$f":"'Zap 1 Pc - TU VPISOVAŤ Mená'!$K$15","v":0},null,343,{"$f":"Q18-N18","v":157},8,500]
[null,null,null,null,null,null,null,null,{"$f":"$Y$28","v":"2"},null,null,null,null,null,null,null,null,{"$f":"$Y$31","v":"1"}]
[null,{"$f":"'Zap 1 Pc - TU VPISOVAŤ Mená'!B17","v":"Hana Švorcová"},{"$f":"'Zap 1 Pc - TU VPISOVAŤ Mená'!$E$17","v":0},null,353,{"$f":"H20-E20","v":136},10,489,null,null,{"$f":"'Zap 1 Pc - TU VPISOVAŤ Mená'!H17","v":"Viktor Magyarics"},{"$f":"'Zap 1 Pc - TU VPISOVAŤ Mená'!$K$17","v":0},null,357,{"$f":"Q20-N20","v":148},10,505]
[]
[null,{"$f":"'Zap 1 Pc - TU VPISOVAŤ Mená'!B19","v":"Samuel Saxun"},{"$f":"'Zap 1 Pc - TU VPISOVAŤ Mená'!$E$19","v":0},null,334,{"$f":"H22-E22","v":125},23,459,null,null,{"$f":"'Zap 1 Pc - TU VPISOVAŤ Mená'!H19","v":"Adam Tóth"},{"$f":"'Zap 1 Pc - TU VPISOVAŤ Mená'!$K$19","v":0},null,319,{"$f":"Q22-N22","v":132},17,451]
[]
[null,{"$f":"'Zap 1 Pc - TU VPISOVAŤ Mená'!B21","v":"Stela Lučanská"},{"$f":"'Zap 1 Pc - TU VPISOVAŤ Mená'!$E$21","v":0},null,364,{"$f":"H24-E24","v":169},8,533,"Poradie",null,{"$f":"'Zap 1 Pc - TU VPISOVAŤ Mená'!H21","v":"Michal Jurík"},{"$f":"'Zap 1 Pc - TU VPISOVAŤ Mená'!$K$21","v":0},null,322,{"$f":"Q24-N24","v":139},7,461,"Poradie"]
[]
[null,null,null,null,"Spolu :",null,null,{"$f":"H18+H20+H22+H24","v":1996},{"$f":"$X$28","v":"4"},null,null,null,null,"Spolu :",null,null,{"$f":"Q18+Q20+Q22+Q24","v":1917},{"$f":"$X$31","v":"5"},null,null,"Družstvo",null,"Výkon","Poradie","Body"]
[null,null,null,null,null,null,null,null,null,null,null,null,null,null,null,null,null,null,null,null,{"$f":"$D$4","v":"TJ Rakovice"},null,{"$f":"$H$14","v":2082},{"$f":"IF(W27=LARGE(W27:W32,1),\"1\",IF(W27=LARGE(W27:W32,2),\"2\",IF(W27=LARGE(W27:W32,3),\"3\",IF(W27=LARGE(W27:W32,4),\"4\",IF(W27=LARGE(W27:W32,5),\"5\",IF(W27=LARGE(W27:W32,6),\"6\"))))))","v":"1"},{"$f":"IF(W27=LARGE(W27:W32,1),\"6\",IF(W27=LARGE(W27:W32,2),\"4\",IF(W27=LARGE(W27:W32,3),\"3\",IF(W27=LARGE(W27:W32,4),\"2\",IF(W27=LARGE(W27:W32,5),\"1\",IF(W27=LARGE(W27:W32,6),\"0\"))))))","v":"6"}]
[null,{"$f":"'Tlačivo na zostavy'!$A$24","v":"Družstvo  č.  3."},null,{"$f":"'Tlačivo na zostavy'!$C$24","v":"ŠK Modranka"},null,null,null,null,null,null,null,null,null,null,null,null,null,null,null,null,{"$f":"$D$16","v":"MKK Piešťany"},null,{"$f":"$H$26","v":1996},{"$f":"IF(W28=LARGE(W27:W32,1),\"1\",IF(W28=LARGE(W27:W32,2),\"2\",IF(W28=LARGE(W27:W32,3),\"3\",IF(W28=LARGE(W27:W32,4),\"4\",IF(W28=LARGE(W27:W32,5),\"5\",IF(W28=LARGE(W27:W32,6),\"6\"))))))","v":"4"},{"$f":"IF(W28=LARGE(W27:W32,1),\"6\",IF(W28=LARGE(W27:W32,2),\"4\",IF(W28=LARGE(W27:W32,3),\"3\",IF(W28=LARGE(W27:W32,4),\"2\",IF(W28=LARGE(W27:W32,5),\"1\",IF(W28=LARGE(W27:W32,6),\"0\"))))))","v":"2"}]
[null,"Priezvisko, meno a registračné číslo hráča",null,null,"Plné","Dorážka","Chyby","Spolu","Body",null,null,null,null,null,null,null,null,null,null,null,{"$f":"$D$28","v":"ŠK Modranka"},null,{"$f":"$H$38","v":2001},{"$f":"IF(W29=LARGE(W27:W32,1),\"1\",IF(W29=LARGE(W27:W32,2),\"2\",IF(W29=LARGE(W27:W32,3),\"3\",IF(W29=LARGE(W27:W32,4),\"4\",IF(W29=LARGE(W27:W32,5),\"5\",IF(W29=LARGE(W27:W32,6),\"6\"))))))","v":"3"},{"$f":"IF(W29=LARGE(W27:W32,1),\"6\",IF(W29=LARGE(W27:W32,2),\"4\",IF(W29=LARGE(W27:W32,3),\"3\",IF(W29=LARGE(W27:W32,4),\"2\",IF(W29=LARGE(W27:W32,5),\"1\",IF(W29=LARGE(W27:W32,6),\"0\"))))))","v":"3"}]
[null,{"$f":"'Zap 1 Pc - TU VPISOVAŤ Mená'!B26","v":"Marcel Sestak"},{"$f":"'Zap 1 Pc - TU VPISOVAŤ Mená'!$E$26","v":0},null,318,{"$f":"H30-E30","v":156},12,474,null,null,null,null,null,null,null,null,null,null,null,null,{"$f":"$L$4","v":"MKK Slovan Galanta"},null,{"$f":"$Q$14","v":2059},{"$f":"IF(W30=LARGE(W27:W32,1),\"1\",IF(W30=LARGE(W27:W32,2),\"2\",IF(W30=LARGE(W27:W32,3),\"3\",IF(W30=LARGE(W27:W32,4),\"4\",IF(W30=LARGE(W27:W32,5),\"5\",IF(W30=LARGE(W27:W32,6),\"6\"))))))","v":"2"},{"$f":"IF(W30=LARGE(W27:W32,1),\"6\",IF(W30=LARGE(W27:W32,2),\"4\",IF(W30=LARGE(W27:W32,3),\"3\",IF(W30=LARGE(W27:W32,4),\"2\",IF(W30=LARGE(W27:W32,5),\"1\",IF(W30=LARGE(W27:W32,6),\"0\"))))))","v":"4"}]
[null,null,null,null,null,null,null,null,{"$f":"$Y$29","v":"3"},null,null,null,null,null,null,null,null,null,null,null,{"$f":"$M$16","v":"KK Zlaté Klasy"},null,{"$f":"$Q$26","v":1917},{"$f":"IF(W31=LARGE(W27:W32,1),\"1\",IF(W31=LARGE(W27:W32,2),\"2\",IF(W31=LARGE(W27:W32,3),\"3\",IF(W31=LARGE(W27:W32,4),\"4\",IF(W31=LARGE(W27:W32,5),\"5\",IF(W31=LARGE(W27:W32,6),\"6\"))))))","v":"5"},{"$f":"IF(W31=LARGE(W27:W32,1),\"6\",IF(W31=LARGE(W27:W32,2),\"4\",IF(W31=LARGE(W27:W32,3),\"3\",IF(W31=LARGE(W27:W32,4),\"2\",IF(W31=LARGE(W27:W32,5),\"1\",IF(W31=LARGE(W27:W32,6),\"0\"))))))","v":"1"}]
[null,{"$f":"'Zap 1 Pc - TU VPISOVAŤ Mená'!B28","v":"Michal Kubicek"},{"$f":"'Zap 1 Pc - TU VPISOVAŤ Mená'!$E$28","v":0},null,367,{"$f":"H32-E32","v":171},7,538,null,null,null,null,null,null,null,null,null,null,null,null,{"$f":"$L$28","v":0},null,{"$f":"$Q$38","v":0},{"$f":"IF(W32=LARGE(W27:W32,1),\"1\",IF(W32=LARGE(W27:W32,2),\"2\",IF(W32=LARGE(W27:W32,3),\"3\",IF(W32=LARGE(W27:W32,4),\"4\",IF(W32=LARGE(W27:W32,5),\"5\",IF(W32=LARGE(W27:W32,6),\"6\"))))))","v":"6"},{"$f":"IF(W32=LARGE(W27:W32,1),\"6\",IF(W32=LARGE(W27:W32,2),\"4\",IF(W32=LARGE(W27:W32,3),\"3\",IF(W32=LARGE(W27:W32,4),\"2\",IF(W32=LARGE(W27:W32,5),\"1\",IF(W32=LARGE(W27:W32,6),\"0\"))))))","v":"0"}]
[]
[null,{"$f":"'Zap 1 Pc - TU VPISOVAŤ Mená'!B30","v":"Richard Hupko"},{"$f":"'Zap 1 Pc - TU VPISOVAŤ Mená'!$E$30","v":0},null,386,{"$f":"H34-E34","v":203},3,589,null,null,null,null,null,null,null,null,null,null,null,null,{"$f":"$D$4","v":"TJ Rakovice"},{"$f":"$L$4","v":"MKK Slovan Galanta"}]
[null,null,null,null,null,null,null,null,null,null,null,null,null,null,null,null,null,null,null,null,{"$f":"H6","v":523},{"$f":"Q6","v":543}]
[null,{"$f":"'Zap 1 Pc - TU VPISOVAŤ Mená'!B32","v":"Daniel Rakicky"},{"$f":"'Zap 1 Pc - TU VPISOVAŤ Mená'!$E$32","v":0},null,309,{"$f":"H36-E36","v":91},31,400,"Poradie",null,null,null,null,null,null,null,null,null,null,null,{"$f":"H8","v":461},{"$f":"Q8","v":464}]
[null,null,null,null,null,null,null,null,null,null,null,null,null,null,null,null,null,null,null,null,{"$f":"H10","v":529},{"$f":"Q10","v":524}]
[null,null,null,null,"Spolu :",null,null,{"$f":"H30+H32+H34+H36","v":2001},{"$f":"$X$29","v":"3"},null,null,null,null,null,null,null,null,null,null,null,{"$f":"H12","v":569},{"$f":"Q12","v":528}]
[null,null,null,null,null,null,null,null,null,null,null,null,null,null,null,null,null,null,null,null,{"$f":"LARGE(U35:U38,1)+LARGE(U35:U38,2)+LARGE(U35:U38,3)","v":1621},1595]
[]
[]
[null,null,null,null,null,null,null,null,null,null,"Podpis rozhodcu :  "]
[]
[]
[null,null,null,null,null,null,null,null,null,null,null,null,null,null,null,null,null,null,null,null,{"$f":"$D$16","v":"MKK Piešťany"},{"$f":"$M$16","v":"KK Zlaté Klasy"}]
[null,null,null,null,null,null,null,null,null,null,null,null,null,null,null,null,null,null,null,null,{"$f":"H18","v":515},{"$f":"Q18","v":500}]
[null,null,null,null,null,null,null,null,null,null,null,null,null,null,null,null,null,null,null,null,{"$f":"H20","v":489},{"$f":"Q20","v":505}]
[null,null,null,null,null,null,null,null,null,null,null,null,null,null,null,null,null,null,null,null,{"$f":"H22","v":459},{"$f":"Q22","v":451}]
[null,null,null,null,null,null,null,null,null,null,null,null,null,null,null,null,null,null,null,null,{"$f":"H24","v":533},{"$f":"Q24","v":461}]
[null,null,null,null,null,null,null,null,null,null,null,null,null,null,null,null,null,null,null,null,{"$f":"LARGE(U46:U49,1)+LARGE(U46:U49,2)+LARGE(U46:U49,3)","v":1537},1466]
[]
[]
[null,null,null,null,null,null,null,null,null,null,null,null,null,null,null,null,null,null,null,null,{"$f":"$D$28","v":"ŠK Modranka"},{"$f":"$L$28","v":0}]
[null,null,null,null,null,null,null,null,null,null,null,null,null,null,null,null,null,null,null,null,{"$f":"H30","v":474},{"$f":"Q30","v":0}]
[null,null,null,null,null,null,null,null,null,null,null,null,null,null,null,null,null,null,null,null,{"$f":"H32","v":538},{"$f":"Q32","v":0}]
[null,null,null,null,null,null,null,null,null,null,null,null,null,null,null,null,null,null,null,null,{"$f":"H34","v":589},{"$f":"Q34","v":0}]
[null,null,null,null,null,null,null,null,null,null,null,null,null,null,null,null,null,null,null,null,{"$f":"H36","v":400},{"$f":"Q36","v":0}]
[null,null,null,null,null,null,null,null,null,null,null,null,null,null,null,null,null,null,null,null,{"$f":"LARGE(U54:U57,1)+LARGE(U54:U57,2)+LARGE(U54:U57,3)","v":1601},0]

{"sheet":"Výsledky","index":4,"n_rows":105,"n_cols":14,"rows_kept":105,"cut":false,"hidden":false,"merged":[[1,1,1,11],[1,13,2,14],[2,2,2,10],[3,2,3,10],[5,13,6,15],[7,10,8,10],[7,13,8,15],[7,8,8,8],[14,8,15,8],[14,10,15,10],[21,8,22,8],[21,10,22,10],[28,8,29,8],[28,10,29,10],[89,8,89,10],[44,3,44,8],[43,2,44,2],[43,3,43,8],[44,9,44,10],[90,3,90,8],[35,8,36,8],[35,10,36,10],[42,3,42,8],[42,9,43,10]]}
[]
[null,"Výsledky 1. turnajového kola Dorasteneckej ligy ",null,null,null,null,null,null,null,null,null,null,null,"za  5."]
[null,null,"o Majstra Trnavského kraja družstiev 2026"]
[null,null,"Zlaté Klasy  22.3.2026"]
[]
[null,null,{"$f":"'Tlačivo na zostavy'!$C$2","v":"TJ Rakovice"},"Číslo pr.","Plné","Doráž.","Ch.","Spolu",null,null,null,null,null,"Tu len vypísať rozhod. zápis"]
[null,null,{"$f":"CLEAN('Zápis tur_ Pc Výkony'!B6)","v":"Viktoria Forrová"},{"$f":"'Zápis tur_ Pc Výkony'!$C$6","v":0},{"$f":"'Zápis tur_ Pc Výkony'!E6","v":350},{"$f":"'Zápis tur_ Pc Výkony'!F6","v":173},{"$f":"'Zápis tur_ Pc Výkony'!$G$6","v":6},{"$f":"E7+F7","v":523}]
[null,null,{"$f":"CLEAN('Zápis tur_ Pc Výkony'!B8)","v":"Timea Magalová/Dean Kukuč"},{"$f":"'Zápis tur_ Pc Výkony'!$C$8","v":0},{"$f":"'Zápis tur_ Pc Výkony'!E8","v":330},{"$f":"'Zápis tur_ Pc Výkony'!F8","v":131},{"$f":"'Zápis tur_ Pc Výkony'!$G$8","v":19},461,"Poradie",null,"Body",null,null,"v spodnej časti tabuľky."]
[null,null,{"$f":"CLEAN('Zápis tur_ Pc Výkony'!B10)","v":"Dominik  Masár"},{"$f":"'Zápis tur_ Pc Výkony'!$C$10","v":0},{"$f":"'Zápis tur_ Pc Výkony'!E10","v":355},{"$f":"'Zápis tur_ Pc Výkony'!F10","v":174},{"$f":"'Zápis tur_ Pc Výkony'!$G$10","v":5},529]
[null,null,{"$f":"CLEAN('Zápis tur_ Pc Výkony'!B12)","v":"Timotej Masár"},{"$f":"'Zápis tur_ Pc Výkony'!$C$12","v":0},{"$f":"'Zápis tur_ Pc Výkony'!E12","v":369},{"$f":"'Zápis tur_ Pc Výkony'!F12","v":200},{"$f":"'Zápis tur_ Pc Výkony'!$G$12","v":2},569,{"$f":"'Zápis tur_ Pc Výkony'!$I$14","v":"1"},null,{"$f":"'Zápis tur_ Pc Výkony'!$I$7","v":"6"}]
[null,null,null,null,null,null,null,{"$f":"SUM('Zápis tur_ Pc Výkony'!H14)","v":2082}]
[]
[null,null,{"$f":"'Tlačivo na zostavy'!$C$13","v":"MKK Piešťany"},"Číslo pr.","Plné","Doráž.","Ch.","Spolu"]
[null,null,{"$f":"CLEAN('Zápis tur_ Pc Výkony'!B18)","v":"Lucia Ondrisová"},{"$f":"'Zápis tur_ Pc Výkony'!$C$18","v":0},{"$f":"'Zápis tur_ Pc Výkony'!E18","v":363},{"$f":"'Zápis tur_ Pc Výkony'!F18","v":152},{"$f":"'Zápis tur_ Pc Výkony'!$G$18","v":7},{"$f":"E14+F14","v":515}]
[null,null,{"$f":"CLEAN('Zápis tur_ Pc Výkony'!B20)","v":"Hana Švorcová"},{"$f":"'Zápis tur_ Pc Výkony'!$C$20","v":0},{"$f":"'Zápis tur_ Pc Výkony'!E20","v":353},{"$f":"'Zápis tur_ Pc Výkony'!F20","v":136},{"$f":"'Zápis tur_ Pc Výkony'!$G$20","v":10},489,"Poradie",null,"Body"]
[null,null,{"$f":"CLEAN('Zápis tur_ Pc Výkony'!B22)","v":"Samuel Saxun"},{"$f":"'Zápis tur_ Pc Výkony'!$C$22","v":0},{"$f":"'Zápis tur_ Pc Výkony'!E22","v":334},{"$f":"'Zápis tur_ Pc Výkony'!F22","v":125},{"$f":"'Zápis tur_ Pc Výkony'!$G$22","v":23},459]
[null,null,{"$f":"CLEAN('Zápis tur_ Pc Výkony'!B24)","v":"Stela Lučanská"},{"$f":"'Zápis tur_ Pc Výkony'!$C$24","v":0},{"$f":"'Zápis tur_ Pc Výkony'!E24","v":364},{"$f":"'Zápis tur_ Pc Výkony'!F24","v":169},{"$f":"'Zápis tur_ Pc Výkony'!$G$24","v":8},533,{"$f":"'Zápis tur_ Pc Výkony'!$I$26","v":"4"},null,{"$f":"'Zápis tur_ Pc Výkony'!$I$19","v":"2"}]
[null,null,null,null,null,null,null,{"$f":"SUM('Zápis tur_ Pc Výkony'!H26)","v":1996}]
[]
[null,null,{"$f":"'Tlačivo na zostavy'!$C$24","v":"ŠK Modranka"},"Číslo pr.","Plné","Doráž.","Ch.","Spolu"]
[null,null,{"$f":"CLEAN('Zápis tur_ Pc Výkony'!B30)","v":"Marcel Sestak"},{"$f":"'Zápis tur_ Pc Výkony'!$C$30","v":0},{"$f":"'Zápis tur_ Pc Výkony'!E30","v":318},{"$f":"'Zápis tur_ Pc Výkony'!F30","v":156},{"$f":"'Zápis tur_ Pc Výkony'!$G$30","v":12},{"$f":"E21+F21","v":474}]
[null,null,{"$f":"CLEAN('Zápis tur_ Pc Výkony'!B32)","v":"Michal Kubicek"},{"$f":"'Zápis tur_ Pc Výkony'!$C$32","v":0},{"$f":"'Zápis tur_ Pc Výkony'!E32","v":367},{"$f":"'Zápis tur_ Pc Výkony'!F32","v":171},{"$f":"'Zápis tur_ Pc Výkony'!$G$32","v":7},538,"Poradie",null,"Body"]
[null,null,{"$f":"CLEAN('Zápis tur_ Pc Výkony'!B34)","v":"Richard Hupko"},{"$f":"'Zápis tur_ Pc Výkony'!$C$34","v":0},{"$f":"'Zápis tur_ Pc Výkony'!E34","v":386},{"$f":"'Zápis tur_ Pc Výkony'!F34","v":203},{"$f":"'Zápis tur_ Pc Výkony'!$G$34","v":3},589]
[null,null,{"$f":"CLEAN('Zápis tur_ Pc Výkony'!B36)","v":"Daniel Rakicky"},{"$f":"'Zápis tur_ Pc Výkony'!$C$36","v":0},{"$f":"'Zápis tur_ Pc Výkony'!E36","v":309},{"$f":"'Zápis tur_ Pc Výkony'!F36","v":91},{"$f":"'Zápis tur_ Pc Výkony'!$G$36","v":31},400,{"$f":"'Zápis tur_ Pc Výkony'!$I$38","v":"3"},null,{"$f":"'Zápis tur_ Pc Výkony'!$I$31","v":"3"}]
[null,null,null,null,null,null,null,{"$f":"SUM('Zápis tur_ Pc Výkony'!H38)","v":2001}]
[]
[null,null,{"$f":"'Tlačivo na zostavy'!$I$2","v":"MKK Slovan Galanta"},"Číslo pr.","Plné","Doráž.","Ch.","Spolu"]
[null,null,{"$f":"CLEAN('Zápis tur_ Pc Výkony'!K6)","v":"Veronika Beskidová"},{"$f":"'Zápis tur_ Pc Výkony'!$L$6","v":0},{"$f":"'Zápis tur_ Pc Výkony'!N6","v":352},{"$f":"'Zápis tur_ Pc Výkony'!O6","v":191},{"$f":"'Zápis tur_ Pc Výkony'!$P$6","v":5},{"$f":"E28+F28","v":543}]
[null,null,{"$f":"CLEAN('Zápis tur_ Pc Výkony'!K8)","v":"Laura Tánczosová"},{"$f":"'Zápis tur_ Pc Výkony'!$L$8","v":0},{"$f":"'Zápis tur_ Pc Výkony'!N8","v":351},{"$f":"'Zápis tur_ Pc Výkony'!O8","v":113},{"$f":"'Zápis tur_ Pc Výkony'!$P$8","v":16},464,"Poradie",null,"Body"]
[null,null,{"$f":"CLEAN('Zápis tur_ Pc Výkony'!K10)","v":"Matej Kubalec"},{"$f":"'Zápis tur_ Pc Výkony'!$L$10","v":0},{"$f":"'Zápis tur_ Pc Výkony'!N10","v":325},{"$f":"'Zápis tur_ Pc Výkony'!O10","v":199},{"$f":"'Zápis tur_ Pc Výkony'!$P$10","v":9},524]
[null,null,{"$f":"CLEAN('Zápis tur_ Pc Výkony'!K12)","v":"Kosár Konrád"},{"$f":"'Zápis tur_ Pc Výkony'!$L$12","v":0},{"$f":"'Zápis tur_ Pc Výkony'!N12","v":343},{"$f":"'Zápis tur_ Pc Výkony'!O12","v":185},{"$f":"'Zápis tur_ Pc Výkony'!$P$12","v":10},528,{"$f":"'Zápis tur_ Pc Výkony'!$R$14","v":"2"},null,{"$f":"'Zápis tur_ Pc Výkony'!$R$7","v":"4"}]
[null,null,null,null,null,null,null,{"$f":"SUM('Zápis tur_ Pc Výkony'!Q14)","v":2059}]
[]
[null,null,{"$f":"'Tlačivo na zostavy'!$I$13","v":"KK Zlaté Klasy"},"Číslo pr.","Plné","Doráž.","Ch.","Spolu"]
[null,null,{"$f":"CLEAN('Zápis tur_ Pc Výkony'!K18)","v":"Lucia Magyarics "},{"$f":"'Zápis tur_ Pc Výkony'!$L$18","v":0},{"$f":"'Zápis tur_ Pc Výkony'!N18","v":343},{"$f":"'Zápis tur_ Pc Výkony'!O18","v":157},{"$f":"'Zápis tur_ Pc Výkony'!$P$18","v":8},{"$f":"E35+F35","v":500}]
[null,null,{"$f":"CLEAN('Zápis tur_ Pc Výkony'!K20)","v":"Viktor Magyarics"},{"$f":"'Zápis tur_ Pc Výkony'!$L$20","v":0},{"$f":"'Zápis tur_ Pc Výkony'!N20","v":357},{"$f":"'Zápis tur_ Pc Výkony'!O20","v":148},{"$f":"'Zápis tur_ Pc Výkony'!$P$20","v":10},505,"Poradie",null,"Body"]
[null,null,{"$f":"CLEAN('Zápis tur_ Pc Výkony'!K22)","v":"Adam Tóth"},{"$f":"'Zápis tur_ Pc Výkony'!$L$22","v":0},{"$f":"'Zápis tur_ Pc Výkony'!N22","v":319},{"$f":"'Zápis tur_ Pc Výkony'!O22","v":132},{"$f":"'Zápis tur_ Pc Výkony'!$P$22","v":17},451]
[null,null,{"$f":"CLEAN('Zápis tur_ Pc Výkony'!K24)","v":"Michal Jurík"},{"$f":"'Zápis tur_ Pc Výkony'!$L$24","v":0},{"$f":"'Zápis tur_ Pc Výkony'!N24","v":322},{"$f":"'Zápis tur_ Pc Výkony'!O24","v":139},{"$f":"'Zápis tur_ Pc Výkony'!$P$24","v":7},461,{"$f":"'Zápis tur_ Pc Výkony'!$R$26","v":"5"},null,{"$f":"'Zápis tur_ Pc Výkony'!$R$19","v":"1"}]
[null,null,null,null,null,null,null,{"$f":"SUM('Zápis tur_ Pc Výkony'!Q26)","v":1917}]
[]
[]
[]
[]
[null,null,"Rozhodcovia :",{"$f":"'Tlačivo na zostavy'!$N$31","v":"Lengyel Ottó"}]
[null,null,null,{"$f":"'Tlačivo na zostavy'!$N$32","v":"Vlahyová Eva"}]
[]
[]
[null,null,"         Čas začiatku stretnutia :","10:00",null,null,"  Teplota na kolkárni :",null,null,null,"20°C"]
[]
[null,null,"      Čas ukončenia stretnutia :","15:30",null,null,null,"  Počet divákov :",null,null,"40"]
[]
[null,null,"Pripomienky k technickému stavu kolkárne:"]
[]
[]
[]
[]
[]
[]
[]
[]
[null,null,"Striedanie hráčov (zranenia):"]
[]
[]
[]
[]
[]
[]
[]
[]
[]
[null,null,"Napomínania hráčov za nešportové správanie alebo vylúčenie zo štartu:"]
[]
[]
[]
[]
[]
[]
[]
[]
[null,null,"Rôzne:"]
[]
[]
[]
[]
[]
[]
[]
[]
[]
[null,null,"Dňa:",null,null,null,null,null,{"$f":"TODAY()","v":"2026-03-22"}]
[null,null,null,"Podpisy ved. družstiev a rozhodcov :"]
[]
[null,null,{"$f":"'Tlačivo na zostavy'!$C$2","v":"TJ Rakovice"}]
[]
[null,null,{"$f":"'Tlačivo na zostavy'!$C$13","v":"MKK Piešťany"}]
[]
[null,null,{"$f":"'Tlačivo na zostavy'!$C$24","v":"ŠK Modranka"}]
[]
[null,null,{"$f":"'Tlačivo na zostavy'!$I$2","v":"MKK Slovan Galanta"}]
[]
[null,null,{"$f":"'Tlačivo na zostavy'!$I$13","v":"KK Zlaté Klasy"}]
[]
[null,null,{"$f":"'Tlačivo na zostavy'!$I$24","v":0}]
[]
[null,null,"Rozhodcovia"]

{"sheet":"Tabuľka","index":5,"n_rows":9,"n_cols":8,"rows_kept":9,"cut":false,"hidden":false,"merged":[[1,1,1,4],[2,1,2,4],[4,7,5,8]]}
[]
[null,"Poradie v 1. turnaji o dor. majstra TT kraja"]
[null,"na kolkárni v Zlatých Klasoch - 22.3.2026"]
[null,null,null,"Výkon","Body"]
[null,"1.",{"$f":"Výsledky!$C$6","v":"TJ Rakovice"},{"$f":"Výsledky!$H$11","v":2082},{"$f":"Výsledky!$K$10","v":"6"},null,null,"za  6."]
[null,"2.",{"$f":"Výsledky!$C$27","v":"MKK Slovan Galanta"},{"$f":"Výsledky!$H$32","v":2059},{"$f":"Výsledky!$K$31","v":"4"}]
[null,"3.",{"$f":"Výsledky!$C$20","v":"ŠK Modranka"},{"$f":"Výsledky!$H$25","v":2001},{"$f":"Výsledky!$K$24","v":"3"}]
[null,"4.",{"$f":"Výsledky!$C$13","v":"MKK Piešťany"},{"$f":"Výsledky!$H$18","v":1996},{"$f":"Výsledky!$K$17","v":"2"}]
[null,"5.",{"$f":"Výsledky!$C$34","v":"KK Zlaté Klasy"},{"$f":"Výsledky!$H$39","v":1917},{"$f":"Výsledky!$K$38","v":"1"}]

{"sheet":" Jednot","index":6,"n_rows":25,"n_cols":32,"rows_kept":25,"cut":false,"hidden":false,"merged":[[5,24,5,26],[1,1,1,8],[2,1,2,8],[2,13,2,31],[3,18,4,20],[3,21,4,23],[3,24,4,26],[3,27,4,29],[3,15,4,17],[5,27,5,29],[13,21,13,23],[13,24,13,26],[17,14,18,14],[12,15,12,17],[12,18,12,20],[12,21,12,23],[12,24,12,26],[12,27,12,29],[13,15,13,17],[13,18,13,20],[13,27,13,29],[5,14,6,14],[5,15,5,17],[5,18,5,20],[5,21,5,23]]}
[]
[null,"Poradie jednotlivcov v IV. turnajovom kole o majstra SR dorastu"]
[null,"družstiev na kolkárni v Starej Turej - Piešťany  13.4.2014.",null,null,null,null,null,null,null,null,null,null,null,"Finálová tabuľka MTTK družstiev dorastu po I. turnaji 2026."]
[null,null,null,null,null,null,null,null,null,null,null,null,null,null,null,"Zlaté Klasy",null,null,"Piešťany",null,null,"Galanta",null,null,"Modranka",null,null,"Rakovice"]
[null,null,"Hráč","Čís.pr.","družstvo","Plné","Dor.","Ch.","Spolu"]
[null,"1.",{"$f":"Výsledky!C23","v":"Richard Hupko"},{"$f":"Výsledky!D23","v":0},{"$f":"Výsledky!$C$20","v":"ŠK Modranka"},{"$f":"Výsledky!E23","v":386},{"$f":"Výsledky!F23","v":203},{"$f":"Výsledky!G23","v":3},{"$f":"Výsledky!H23","v":589},null,null,null,null,null,"Poradie","T1",null,null,"T2",null,null,"T3",null,null,"T4",null,null,"T5",null,null,"Priemer","Body "]
[null,"2.",{"$f":"Výsledky!C10","v":"Timotej Masár"},{"$f":"Výsledky!D10","v":0},{"$f":"Výsledky!$C$6","v":"TJ Rakovice"},{"$f":"Výsledky!E10","v":369},{"$f":"Výsledky!F10","v":200},{"$f":"Výsledky!G10","v":2},{"$f":"Výsledky!H10","v":569},null,null,null,null,null,null,"Výkon","Por.","Body ","Výkon","Por.","Body ","Výkon","Por.","Body ","Výkon","Por.","Body ","Výkon","Por.","Body ","celkom","celkom"]
[null,"3.",{"$f":"Výsledky!C28","v":"Veronika Beskidová"},{"$f":"Výsledky!D28","v":0},{"$f":"Výsledky!$C$27","v":"MKK Slovan Galanta"},{"$f":"Výsledky!E28","v":352},{"$f":"Výsledky!F28","v":191},{"$f":"Výsledky!G28","v":5},{"$f":"Výsledky!H28","v":543},null,null,null,null,"1.","TJ Rakovice",2082,1,6,null,null,null,null,null,null,null,null,null,null,null,null,{"$f":"IF(ISERROR(AVERAGE(P8,S8,V8,Y8,AB8)),\"\",AVERAGE(P8,S8,V8,Y8,AB8))","v":2082},{"$f":"AD8+AA8+X8+U8+R8","v":6}]
[null,"4.",{"$f":"Výsledky!C22","v":"Michal Kubicek"},{"$f":"Výsledky!D22","v":0},{"$f":"Výsledky!$C$20","v":"ŠK Modranka"},{"$f":"Výsledky!E22","v":367},{"$f":"Výsledky!F22","v":171},{"$f":"Výsledky!G22","v":7},{"$f":"Výsledky!H22","v":538},null,null,null,null,"2.","MKK Piešťany",1996,4,2,null,null,null,null,null,null,null,null,null,null,null,null,1996,2]
[null,"5.",{"$f":"Výsledky!C17","v":"Stela Lučanská"},{"$f":"Výsledky!D17","v":0},{"$f":"Výsledky!$C$13","v":"MKK Piešťany"},{"$f":"Výsledky!E17","v":364},{"$f":"Výsledky!F17","v":169},{"$f":"Výsledky!G17","v":8},{"$f":"Výsledky!H17","v":533},null,null,null,null,"3.","ŠK Modranka",2001,3,3,null,null,null,null,null,null,null,null,null,null,null,null,2001,3]
[null,"6.",{"$f":"Výsledky!C9","v":"Dominik  Masár"},{"$f":"Výsledky!D9","v":0},{"$f":"Výsledky!$C$6","v":"TJ Rakovice"},{"$f":"Výsledky!E9","v":355},{"$f":"Výsledky!F9","v":174},{"$f":"Výsledky!G9","v":5},{"$f":"Výsledky!H9","v":529},null,null,null,null,"4.","MKK Slovan Galanta",2059,2,4,null,null,null,null,null,null,null,null,null,null,null,null,2059,4]
[null,"7.",{"$f":"Výsledky!C31","v":"Kosár Konrád"},{"$f":"Výsledky!D31","v":0},{"$f":"Výsledky!$C$27","v":"MKK Slovan Galanta"},{"$f":"Výsledky!E31","v":343},{"$f":"Výsledky!F31","v":185},{"$f":"Výsledky!G31","v":10},{"$f":"Výsledky!H31","v":528},null,null,null,null,"5.","KK Zlaté Klasy",1917,5,1,null,null,null,null,null,null,null,null,null,null,null,null,1917,1]
[null,"8.",{"$f":"Výsledky!C30","v":"Matej Kubalec"},{"$f":"Výsledky!D30","v":0},{"$f":"Výsledky!$C$27","v":"MKK Slovan Galanta"},{"$f":"Výsledky!E30","v":325},{"$f":"Výsledky!F30","v":199},{"$f":"Výsledky!G30","v":9},{"$f":"Výsledky!H30","v":524},null,null,null,null,null,null,"2026-03-22",null,null,"2026-03-29",null,null,"2026-04-12",null,null,"2026-04-19",null,null,"2026-04-26"]
[null,"9.",{"$f":"Výsledky!C7","v":"Viktoria Forrová"},{"$f":"Výsledky!D7","v":0},{"$f":"Výsledky!$C$6","v":"TJ Rakovice"},{"$f":"Výsledky!E7","v":350},{"$f":"Výsledky!F7","v":173},{"$f":"Výsledky!G7","v":6},{"$f":"Výsledky!H7","v":523}]
[null,"10.",{"$f":"Výsledky!C14","v":"Lucia Ondrisová"},{"$f":"Výsledky!D14","v":0},{"$f":"Výsledky!$C$13","v":"MKK Piešťany"},{"$f":"Výsledky!E14","v":363},{"$f":"Výsledky!F14","v":152},{"$f":"Výsledky!G14","v":7},{"$f":"Výsledky!H14","v":515}]
[null,"11.",{"$f":"Výsledky!C36","v":"Viktor Magyarics"},{"$f":"Výsledky!D36","v":0},{"$f":"Výsledky!$C$34","v":"KK Zlaté Klasy"},{"$f":"Výsledky!E36","v":357},{"$f":"Výsledky!F36","v":148},{"$f":"Výsledky!G36","v":10},{"$f":"Výsledky!H36","v":505}]
[null,"12.",{"$f":"Výsledky!C35","v":"Lucia Magyarics "},{"$f":"Výsledky!D35","v":0},{"$f":"Výsledky!$C$34","v":"KK Zlaté Klasy"},{"$f":"Výsledky!E35","v":343},{"$f":"Výsledky!F35","v":157},{"$f":"Výsledky!G35","v":8},{"$f":"Výsledky!H35","v":500}]
[null,"13.",{"$f":"Výsledky!C15","v":"Hana Švorcová"},{"$f":"Výsledky!D15","v":0},{"$f":"Výsledky!$C$13","v":"MKK Piešťany"},{"$f":"Výsledky!E15","v":353},{"$f":"Výsledky!F15","v":136},{"$f":"Výsledky!G15","v":10},{"$f":"Výsledky!H15","v":489},null,null,null,null,null,"za  7.  "]
[null,"14.",{"$f":"Výsledky!C21","v":"Marcel Sestak"},{"$f":"Výsledky!D21","v":0},{"$f":"Výsledky!$C$20","v":"ŠK Modranka"},{"$f":"Výsledky!E21","v":318},{"$f":"Výsledky!F21","v":156},{"$f":"Výsledky!G21","v":12},{"$f":"Výsledky!H21","v":474}]
[null,"15.",{"$f":"Výsledky!C29","v":"Laura Tánczosová"},{"$f":"Výsledky!D29","v":0},{"$f":"Výsledky!$C$27","v":"MKK Slovan Galanta"},{"$f":"Výsledky!E29","v":351},{"$f":"Výsledky!F29","v":113},{"$f":"Výsledky!G29","v":16},{"$f":"Výsledky!H29","v":464}]
[null,"16.",{"$f":"Výsledky!C38","v":"Michal Jurík"},{"$f":"Výsledky!D38","v":0},{"$f":"Výsledky!$C$34","v":"KK Zlaté Klasy"},{"$f":"Výsledky!E38","v":322},{"$f":"Výsledky!F38","v":139},{"$f":"Výsledky!G38","v":7},{"$f":"Výsledky!H38","v":461},null,null,null,null,null,"Tu len stlačiť makro"]
[null,"17.",{"$f":"Výsledky!C8","v":"Timea Magalová/Dean Kukuč"},{"$f":"Výsledky!D8","v":0},{"$f":"Výsledky!$C$6","v":"TJ Rakovice"},{"$f":"Výsledky!E8","v":330},{"$f":"Výsledky!F8","v":131},{"$f":"Výsledky!G8","v":19},{"$f":"Výsledky!H8","v":461},null,null,null,null,null,"jednotlivcov"]
[null,"18.",{"$f":"Výsledky!C16","v":"Samuel Saxun"},{"$f":"Výsledky!D16","v":0},{"$f":"Výsledky!$C$13","v":"MKK Piešťany"},{"$f":"Výsledky!E16","v":334},{"$f":"Výsledky!F16","v":125},{"$f":"Výsledky!G16","v":23},{"$f":"Výsledky!H16","v":459},null,null,null,null,null,"a družstiev"]
[null,"19.",{"$f":"Výsledky!C37","v":"Adam Tóth"},{"$f":"Výsledky!D37","v":0},{"$f":"Výsledky!$C$34","v":"KK Zlaté Klasy"},{"$f":"Výsledky!E37","v":319},{"$f":"Výsledky!F37","v":132},{"$f":"Výsledky!G37","v":17},{"$f":"Výsledky!H37","v":451}]
[null,"20.",{"$f":"Výsledky!C24","v":"Daniel Rakicky"},{"$f":"Výsledky!D24","v":0},{"$f":"Výsledky!$C$20","v":"ŠK Modranka"},{"$f":"Výsledky!E24","v":309},{"$f":"Výsledky!F24","v":91},{"$f":"Výsledky!G24","v":31},{"$f":"Výsledky!H24","v":400}]